BEGIN:VCALENDAR
VERSION:2.0
PRODID:-//Pituitary Network Association - International non-profit organization for patients with pituitary tumors and disorders - ECPv6.15.17.1//NONSGML v1.0//EN
CALSCALE:GREGORIAN
METHOD:PUBLISH
X-WR-CALNAME:Pituitary Network Association - International non-profit organization for patients with pituitary tumors and disorders
X-ORIGINAL-URL:https://pituitary.org
X-WR-CALDESC:Events for Pituitary Network Association - International non-profit organization for patients with pituitary tumors and disorders
REFRESH-INTERVAL;VALUE=DURATION:PT1H
X-Robots-Tag:noindex
X-PUBLISHED-TTL:PT1H
BEGIN:VTIMEZONE
TZID:America/New_York
BEGIN:DAYLIGHT
TZOFFSETFROM:-0500
TZOFFSETTO:-0400
TZNAME:EDT
DTSTART:20220313T070000
END:DAYLIGHT
BEGIN:STANDARD
TZOFFSETFROM:-0400
TZOFFSETTO:-0500
TZNAME:EST
DTSTART:20221106T060000
END:STANDARD
BEGIN:DAYLIGHT
TZOFFSETFROM:-0500
TZOFFSETTO:-0400
TZNAME:EDT
DTSTART:20230312T070000
END:DAYLIGHT
BEGIN:STANDARD
TZOFFSETFROM:-0400
TZOFFSETTO:-0500
TZNAME:EST
DTSTART:20231105T060000
END:STANDARD
BEGIN:DAYLIGHT
TZOFFSETFROM:-0500
TZOFFSETTO:-0400
TZNAME:EDT
DTSTART:20240310T070000
END:DAYLIGHT
BEGIN:STANDARD
TZOFFSETFROM:-0400
TZOFFSETTO:-0500
TZNAME:EST
DTSTART:20241103T060000
END:STANDARD
END:VTIMEZONE
BEGIN:VEVENT
DTSTART;VALUE=DATE:20230609
DTEND;VALUE=DATE:20230610
DTSTAMP:20260424T074428
CREATED:20230327T175448Z
LAST-MODIFIED:20230327T175448Z
UID:10000015-1686268800-1686355199@pituitary.org
SUMMARY:Transorbital\, Supraorbital\, and Endonasal: Three Minimally Invasive Approaches to the Skull Base
DESCRIPTION:Transorbital\, Supraorbital\, and Endonasal: Three Minimally Invasive Approaches to the Skull Base is now open for registration. The course\, which includes lectures\, Q&A sessions\, and live-streamed cadaver dissections\, will be presented via Zoom on June 9\, 2023. We would like to invite you to register today to reserve your place and take advantage of the early registration discount. \nClick here for the full agenda\, faculty list\, and online registration. \nMinimally invasive approaches to the skull base have revolutionized skull base surgery over the last two decades and have become one of the most important emerging trends in neurosurgery. This one-day online course will demonstrate key surgical steps and provide step-by-step instruction in three different approaches: endonasal\, transorbital\, and supraorbital. Through lectures and case presentations\, then real-time cadaver dissection\, the instructors will take participants through each approach and answer questions from the online audience. \nVisit our online registration site for more information about the course\, including the full agenda\, faculty list\, and fees. We hope to see you at the course!
URL:https://pituitary.org/events/transorbital-supraorbital-and-endonasal-three-minimally-invasive-approaches-to-the-skull-base/
LOCATION:CA
END:VEVENT
END:VCALENDAR