BEGIN:VCALENDAR
VERSION:2.0
PRODID:-//Pituitary Network Association - International non-profit organization for patients with pituitary tumors and disorders - ECPv6.15.17.1//NONSGML v1.0//EN
CALSCALE:GREGORIAN
METHOD:PUBLISH
X-ORIGINAL-URL:https://pituitary.org
X-WR-CALDESC:Events for Pituitary Network Association - International non-profit organization for patients with pituitary tumors and disorders
REFRESH-INTERVAL;VALUE=DURATION:PT1H
X-Robots-Tag:noindex
X-PUBLISHED-TTL:PT1H
BEGIN:VTIMEZONE
TZID:America/Los_Angeles
BEGIN:DAYLIGHT
TZOFFSETFROM:-0800
TZOFFSETTO:-0700
TZNAME:PDT
DTSTART:20230312T100000
END:DAYLIGHT
BEGIN:STANDARD
TZOFFSETFROM:-0700
TZOFFSETTO:-0800
TZNAME:PST
DTSTART:20231105T090000
END:STANDARD
BEGIN:DAYLIGHT
TZOFFSETFROM:-0800
TZOFFSETTO:-0700
TZNAME:PDT
DTSTART:20240310T100000
END:DAYLIGHT
BEGIN:STANDARD
TZOFFSETFROM:-0700
TZOFFSETTO:-0800
TZNAME:PST
DTSTART:20241103T090000
END:STANDARD
BEGIN:DAYLIGHT
TZOFFSETFROM:-0800
TZOFFSETTO:-0700
TZNAME:PDT
DTSTART:20250309T100000
END:DAYLIGHT
BEGIN:STANDARD
TZOFFSETFROM:-0700
TZOFFSETTO:-0800
TZNAME:PST
DTSTART:20251102T090000
END:STANDARD
END:VTIMEZONE
BEGIN:VEVENT
DTSTART;TZID=America/Los_Angeles:20241109T080000
DTEND;TZID=America/Los_Angeles:20241109T170000
DTSTAMP:20260420T221607
CREATED:20240912T191421Z
LAST-MODIFIED:20241204T215315Z
UID:10000033-1731139200-1731171600@pituitary.org
SUMMARY:2024 Stanford Health Care Pituitary Patient Ed Day: In-Person w/ Zoom
DESCRIPTION:Patients with pituitary disease\, their family and friends are invited to attend Stanford Health Care Pituitary Patient Ed Day on Sat\,11/9/24 \nEventbrite Details
URL:https://pituitary.org/events/2024-stanford-health-care-pituitary-patient-ed-day-in-person-w-zoom/
LOCATION:Stanford Hospital\, 500 Pasteur Drive\, Stanford\, CA\, 94305\, United States
END:VEVENT
END:VCALENDAR