BEGIN:VCALENDAR
VERSION:2.0
PRODID:-//Pituitary Network Association - International non-profit organization for patients with pituitary tumors and disorders - ECPv6.15.17.1//NONSGML v1.0//EN
CALSCALE:GREGORIAN
METHOD:PUBLISH
X-WR-CALNAME:Pituitary Network Association - International non-profit organization for patients with pituitary tumors and disorders
X-ORIGINAL-URL:https://pituitary.org
X-WR-CALDESC:Events for Pituitary Network Association - International non-profit organization for patients with pituitary tumors and disorders
REFRESH-INTERVAL;VALUE=DURATION:PT1H
X-Robots-Tag:noindex
X-PUBLISHED-TTL:PT1H
BEGIN:VTIMEZONE
TZID:America/Los_Angeles
BEGIN:DAYLIGHT
TZOFFSETFROM:-0800
TZOFFSETTO:-0700
TZNAME:PDT
DTSTART:20240310T100000
END:DAYLIGHT
BEGIN:STANDARD
TZOFFSETFROM:-0700
TZOFFSETTO:-0800
TZNAME:PST
DTSTART:20241103T090000
END:STANDARD
BEGIN:DAYLIGHT
TZOFFSETFROM:-0800
TZOFFSETTO:-0700
TZNAME:PDT
DTSTART:20250309T100000
END:DAYLIGHT
BEGIN:STANDARD
TZOFFSETFROM:-0700
TZOFFSETTO:-0800
TZNAME:PST
DTSTART:20251102T090000
END:STANDARD
BEGIN:DAYLIGHT
TZOFFSETFROM:-0800
TZOFFSETTO:-0700
TZNAME:PDT
DTSTART:20260308T100000
END:DAYLIGHT
BEGIN:STANDARD
TZOFFSETFROM:-0700
TZOFFSETTO:-0800
TZNAME:PST
DTSTART:20261101T090000
END:STANDARD
END:VTIMEZONE
BEGIN:VEVENT
DTSTART;TZID=America/Los_Angeles:20251101T123000
DTEND;TZID=America/Los_Angeles:20251101T160000
DTSTAMP:20260420T140157
CREATED:20250528T200448Z
LAST-MODIFIED:20250528T200742Z
UID:10000039-1762000200-1762012800@pituitary.org
SUMMARY:2025 Neuro-Endocrine Pituitary Conference
DESCRIPTION:This two-day course has something for everyone. Day 1 focuses on in-depth information for nurses and patients in two separate curated sessions. Day 2 geared toward physicians and nurses provides an extensive immersion in advanced topics led by highly experienced and recognized experts in their fields.
URL:https://pituitary.org/events/2025-neuro-endocrine-pituitary-conference/
LOCATION:LA Puglia\, 1621 Wilshire Blvd\, Santa Monica\, CA\, 90403\, United States
END:VEVENT
END:VCALENDAR