BEGIN:VCALENDAR
VERSION:2.0
PRODID:-//Pituitary Network Association - International non-profit organization for patients with pituitary tumors and disorders - ECPv6.15.17.1//NONSGML v1.0//EN
CALSCALE:GREGORIAN
METHOD:PUBLISH
X-WR-CALNAME:Pituitary Network Association - International non-profit organization for patients with pituitary tumors and disorders
X-ORIGINAL-URL:https://pituitary.org
X-WR-CALDESC:Events for Pituitary Network Association - International non-profit organization for patients with pituitary tumors and disorders
REFRESH-INTERVAL;VALUE=DURATION:PT1H
X-Robots-Tag:noindex
X-PUBLISHED-TTL:PT1H
BEGIN:VTIMEZONE
TZID:America/Los_Angeles
BEGIN:DAYLIGHT
TZOFFSETFROM:-0800
TZOFFSETTO:-0700
TZNAME:PDT
DTSTART:20220313T100000
END:DAYLIGHT
BEGIN:STANDARD
TZOFFSETFROM:-0700
TZOFFSETTO:-0800
TZNAME:PST
DTSTART:20221106T090000
END:STANDARD
BEGIN:DAYLIGHT
TZOFFSETFROM:-0800
TZOFFSETTO:-0700
TZNAME:PDT
DTSTART:20230312T100000
END:DAYLIGHT
BEGIN:STANDARD
TZOFFSETFROM:-0700
TZOFFSETTO:-0800
TZNAME:PST
DTSTART:20231105T090000
END:STANDARD
BEGIN:DAYLIGHT
TZOFFSETFROM:-0800
TZOFFSETTO:-0700
TZNAME:PDT
DTSTART:20240310T100000
END:DAYLIGHT
BEGIN:STANDARD
TZOFFSETFROM:-0700
TZOFFSETTO:-0800
TZNAME:PST
DTSTART:20241103T090000
END:STANDARD
BEGIN:DAYLIGHT
TZOFFSETFROM:-0800
TZOFFSETTO:-0700
TZNAME:PDT
DTSTART:20250309T100000
END:DAYLIGHT
BEGIN:STANDARD
TZOFFSETFROM:-0700
TZOFFSETTO:-0800
TZNAME:PST
DTSTART:20251102T090000
END:STANDARD
BEGIN:DAYLIGHT
TZOFFSETFROM:-0800
TZOFFSETTO:-0700
TZNAME:PDT
DTSTART:20260308T100000
END:DAYLIGHT
BEGIN:STANDARD
TZOFFSETFROM:-0700
TZOFFSETTO:-0800
TZNAME:PST
DTSTART:20261101T090000
END:STANDARD
END:VTIMEZONE
BEGIN:VTIMEZONE
TZID:America/New_York
BEGIN:DAYLIGHT
TZOFFSETFROM:-0500
TZOFFSETTO:-0400
TZNAME:EDT
DTSTART:20230312T070000
END:DAYLIGHT
BEGIN:STANDARD
TZOFFSETFROM:-0400
TZOFFSETTO:-0500
TZNAME:EST
DTSTART:20231105T060000
END:STANDARD
BEGIN:DAYLIGHT
TZOFFSETFROM:-0500
TZOFFSETTO:-0400
TZNAME:EDT
DTSTART:20240310T070000
END:DAYLIGHT
BEGIN:STANDARD
TZOFFSETFROM:-0400
TZOFFSETTO:-0500
TZNAME:EST
DTSTART:20241103T060000
END:STANDARD
BEGIN:DAYLIGHT
TZOFFSETFROM:-0500
TZOFFSETTO:-0400
TZNAME:EDT
DTSTART:20250309T070000
END:DAYLIGHT
BEGIN:STANDARD
TZOFFSETFROM:-0400
TZOFFSETTO:-0500
TZNAME:EST
DTSTART:20251102T060000
END:STANDARD
END:VTIMEZONE
BEGIN:VTIMEZONE
TZID:America/Chicago
BEGIN:DAYLIGHT
TZOFFSETFROM:-0600
TZOFFSETTO:-0500
TZNAME:CDT
DTSTART:20230312T080000
END:DAYLIGHT
BEGIN:STANDARD
TZOFFSETFROM:-0500
TZOFFSETTO:-0600
TZNAME:CST
DTSTART:20231105T070000
END:STANDARD
BEGIN:DAYLIGHT
TZOFFSETFROM:-0600
TZOFFSETTO:-0500
TZNAME:CDT
DTSTART:20240310T080000
END:DAYLIGHT
BEGIN:STANDARD
TZOFFSETFROM:-0500
TZOFFSETTO:-0600
TZNAME:CST
DTSTART:20241103T070000
END:STANDARD
BEGIN:DAYLIGHT
TZOFFSETFROM:-0600
TZOFFSETTO:-0500
TZNAME:CDT
DTSTART:20250309T080000
END:DAYLIGHT
BEGIN:STANDARD
TZOFFSETFROM:-0500
TZOFFSETTO:-0600
TZNAME:CST
DTSTART:20251102T070000
END:STANDARD
END:VTIMEZONE
BEGIN:VEVENT
DTSTART;TZID=America/Los_Angeles:20250326T110000
DTEND;TZID=America/Los_Angeles:20250326T120000
DTSTAMP:20260420T140920
CREATED:20250210T212229Z
LAST-MODIFIED:20250210T212229Z
UID:10000038-1742986800-1742990400@pituitary.org
SUMMARY:Webinar:
DESCRIPTION:Sodium And Water Imbalance After A Pituitary Surgery\n\nPresented By: Dr. Christie Turin More \nWednesday March 26\, 2025 \n11:00am PST \nRegister Here!
URL:https://pituitary.org/events/webinar-2/
CATEGORIES:Webinars
END:VEVENT
BEGIN:VEVENT
DTSTART;TZID=America/New_York:20240802T100000
DTEND;TZID=America/New_York:20240802T110000
DTSTAMP:20260420T140920
CREATED:20240604T173105Z
LAST-MODIFIED:20240620T065033Z
UID:10000031-1722592800-1722596400@pituitary.org
SUMMARY:Giant Pituitary Adenomas
DESCRIPTION:Webinar Announcement\nGiant Pituitary Adenomas\nPresented by:\nDr. Richard Byrne\nDate: August 2\, 2024\nTime:  10:00am – 11:00 am (EDT)
URL:https://pituitary.org/events/giant-pituitary-adenomas-2/
CATEGORIES:Webinars
END:VEVENT
BEGIN:VEVENT
DTSTART;TZID=America/New_York:20240710T100000
DTEND;TZID=America/New_York:20240710T110000
DTSTAMP:20260420T140920
CREATED:20240702T055328Z
LAST-MODIFIED:20240702T060853Z
UID:10000032-1720605600-1720609200@pituitary.org
SUMMARY:Unlocking The Cavernous Sinus - Applications Of Advanced Surgical Anatomy For Management Of Invasive Pituitary Tumors
DESCRIPTION:Webinar Announcement\nUnlocking The Cavernous Sinus – Applications Of Advanced Surgical Anatomy For Management Of Invasive Pituitary Tumors\nPresented by:\nPresented By: Dr. Almeida of Mayo Clinic\nDate: July 10\, 2024\nTime:  10:00am – 11:00 am (EDT)
URL:https://pituitary.org/events/unlocking-the-cavernous-sinus-applications-of-advanced-surgical-anatomy-for-management-of-invasive-pituitary-tumors/
CATEGORIES:Webinars
END:VEVENT
BEGIN:VEVENT
DTSTART;TZID=America/New_York:20240426T123000
DTEND;TZID=America/New_York:20240426T133000
DTSTAMP:20260420T140920
CREATED:20240411T120034Z
LAST-MODIFIED:20240411T120034Z
UID:10000030-1714134600-1714138200@pituitary.org
SUMMARY:Visual Recovery after Pituitary Surgery
DESCRIPTION:Webinar Announcement\nVisual Recover after Pituitary Surgery\nPresented by:\nDr. James Chandler of Northwestern University\nDate: April 26\, 2024\nTime:  12:30 pm – 1:30 pm (EDT)
URL:https://pituitary.org/events/visual-recovery-after-pituitary-surgery/
CATEGORIES:Webinars
END:VEVENT
BEGIN:VEVENT
DTSTART;TZID=America/Los_Angeles:20240311T100000
DTEND;TZID=America/Los_Angeles:20240311T110000
DTSTAMP:20260420T140920
CREATED:20240222T034701Z
LAST-MODIFIED:20240222T034701Z
UID:10000028-1710151200-1710154800@pituitary.org
SUMMARY:Webinar - Visual Recovery After Pituitary Surgery
DESCRIPTION:Webinar Announcement\nVisual Recovery After Pituitary Surgery \nPresented by:\nDr. James Chandler\nDate:  Monday\, March 11\, 2024 12:00pm – 1:00pm CST \nLearning Objectives: TBD \nRegister Now!
URL:https://pituitary.org/events/webinar-visual-recovery-after-pituitary-surgery/
CATEGORIES:Webinars
END:VEVENT
BEGIN:VEVENT
DTSTART;TZID=America/New_York:20240229T170000
DTEND;TZID=America/New_York:20240229T180000
DTSTAMP:20260420T140920
CREATED:20231219T201747Z
LAST-MODIFIED:20231219T201747Z
UID:10000022-1709226000-1709229600@pituitary.org
SUMMARY:Webinar - Advances in Removing Invasive Pituitary Tumors
DESCRIPTION:Webinar Announcement\n Advances in Removing Invasive Pituitary Tumors \nPresented by:\nDr. Paul Gardner\nDate:  Thurs. February 29\, 2024 5:00pm – 6:00pm EST \nLearning Objectives: TBD \nRegister Now!
URL:https://pituitary.org/events/webinar-advances-in-removing-invasive-pituitary-tumors/
CATEGORIES:Webinars
END:VEVENT
BEGIN:VEVENT
DTSTART;TZID=America/Chicago:20240126T133000
DTEND;TZID=America/Chicago:20240126T143000
DTSTAMP:20260420T140920
CREATED:20231219T201258Z
LAST-MODIFIED:20231219T201258Z
UID:10000021-1706275800-1706279400@pituitary.org
SUMMARY:Webinar - Treatment Options For Recurrent Tumors
DESCRIPTION:Webinar Announcement\nTreatment Options For Recurrent Tumors \nPresented by:\nDr. Shaan Raza and Dr. Susan McGovern\nDate:  Fri. January 26\, 2024 1:30pm – 2:30pm CST \nLearning Objectives: TBD \nRegister Now!
URL:https://pituitary.org/events/webinar-treatment-options-for-recurrent-tumors/
CATEGORIES:Webinars
END:VEVENT
BEGIN:VEVENT
DTSTART;TZID=America/Los_Angeles:20230524T130000
DTEND;TZID=America/Los_Angeles:20230524T140000
DTSTAMP:20260420T140920
CREATED:20230303T193409Z
LAST-MODIFIED:20230310T215235Z
UID:10000009-1684933200-1684936800@pituitary.org
SUMMARY:Webinar: The role of Inferior Petrosal Sinus Sampling in the Era of Modern Neuroimaging
DESCRIPTION:Webinar Announcement\nThe role of Inferior Petrosal Sinus Sampling in the Era of Modern Neuroimaging\nPresented by: Dr. Andre Beer Furlan\nMay 24\, 2023\n1:00 – 2:00 pm PDT\nLearning Objectives: TBD\n \n 
URL:https://pituitary.org/events/tbd-with-dr-andre-beer-furlan/
CATEGORIES:Webinars
END:VEVENT
END:VCALENDAR