BEGIN:VCALENDAR
VERSION:2.0
PRODID:-//Pituitary Network Association - International non-profit organization for patients with pituitary tumors and disorders - ECPv6.15.17.1//NONSGML v1.0//EN
CALSCALE:GREGORIAN
METHOD:PUBLISH
X-ORIGINAL-URL:https://pituitary.org
X-WR-CALDESC:Events for Pituitary Network Association - International non-profit organization for patients with pituitary tumors and disorders
REFRESH-INTERVAL;VALUE=DURATION:PT1H
X-Robots-Tag:noindex
X-PUBLISHED-TTL:PT1H
BEGIN:VTIMEZONE
TZID:America/Los_Angeles
BEGIN:DAYLIGHT
TZOFFSETFROM:-0800
TZOFFSETTO:-0700
TZNAME:PDT
DTSTART:20210314T100000
END:DAYLIGHT
BEGIN:STANDARD
TZOFFSETFROM:-0700
TZOFFSETTO:-0800
TZNAME:PST
DTSTART:20211107T090000
END:STANDARD
BEGIN:DAYLIGHT
TZOFFSETFROM:-0800
TZOFFSETTO:-0700
TZNAME:PDT
DTSTART:20220313T100000
END:DAYLIGHT
BEGIN:STANDARD
TZOFFSETFROM:-0700
TZOFFSETTO:-0800
TZNAME:PST
DTSTART:20221106T090000
END:STANDARD
BEGIN:DAYLIGHT
TZOFFSETFROM:-0800
TZOFFSETTO:-0700
TZNAME:PDT
DTSTART:20230312T100000
END:DAYLIGHT
BEGIN:STANDARD
TZOFFSETFROM:-0700
TZOFFSETTO:-0800
TZNAME:PST
DTSTART:20231105T090000
END:STANDARD
END:VTIMEZONE
BEGIN:VEVENT
DTSTART;TZID=America/Los_Angeles:20220930T080000
DTEND;TZID=America/Los_Angeles:20220930T150000
DTSTAMP:20260425T190307
CREATED:20220920T074720Z
LAST-MODIFIED:20220920T074720Z
UID:10000002-1664524800-1664550000@pituitary.org
SUMMARY:CME: Pituitary Disorders
DESCRIPTION:Event Announcement\nDate: Sept. 30\, 2022 \nTime: 8:00 AM – 3:00 PM EDT\n\n\n \nPlease click on image above for more information.
URL:https://pituitary.org/events/cme-pituitary-disorders/
LOCATION:Inova Neurosciences and Medical Center\, 8081 Innovation Park Dr #900\, Fairfax\, VA\, 22031\, United States
END:VEVENT
END:VCALENDAR