BEGIN:VCALENDAR
VERSION:2.0
PRODID:-//Pituitary Network Association - International non-profit organization for patients with pituitary tumors and disorders - ECPv6.15.17.1//NONSGML v1.0//EN
CALSCALE:GREGORIAN
METHOD:PUBLISH
X-ORIGINAL-URL:https://pituitary.org
X-WR-CALDESC:Events for Pituitary Network Association - International non-profit organization for patients with pituitary tumors and disorders
REFRESH-INTERVAL;VALUE=DURATION:PT1H
X-Robots-Tag:noindex
X-PUBLISHED-TTL:PT1H
BEGIN:VTIMEZONE
TZID:America/New_York
BEGIN:DAYLIGHT
TZOFFSETFROM:-0500
TZOFFSETTO:-0400
TZNAME:EDT
DTSTART:20220313T070000
END:DAYLIGHT
BEGIN:STANDARD
TZOFFSETFROM:-0400
TZOFFSETTO:-0500
TZNAME:EST
DTSTART:20221106T060000
END:STANDARD
BEGIN:DAYLIGHT
TZOFFSETFROM:-0500
TZOFFSETTO:-0400
TZNAME:EDT
DTSTART:20230312T070000
END:DAYLIGHT
BEGIN:STANDARD
TZOFFSETFROM:-0400
TZOFFSETTO:-0500
TZNAME:EST
DTSTART:20231105T060000
END:STANDARD
BEGIN:DAYLIGHT
TZOFFSETFROM:-0500
TZOFFSETTO:-0400
TZNAME:EDT
DTSTART:20240310T070000
END:DAYLIGHT
BEGIN:STANDARD
TZOFFSETFROM:-0400
TZOFFSETTO:-0500
TZNAME:EST
DTSTART:20241103T060000
END:STANDARD
END:VTIMEZONE
BEGIN:VTIMEZONE
TZID:America/Los_Angeles
BEGIN:DAYLIGHT
TZOFFSETFROM:-0800
TZOFFSETTO:-0700
TZNAME:PDT
DTSTART:20220313T100000
END:DAYLIGHT
BEGIN:STANDARD
TZOFFSETFROM:-0700
TZOFFSETTO:-0800
TZNAME:PST
DTSTART:20221106T090000
END:STANDARD
BEGIN:DAYLIGHT
TZOFFSETFROM:-0800
TZOFFSETTO:-0700
TZNAME:PDT
DTSTART:20230312T100000
END:DAYLIGHT
BEGIN:STANDARD
TZOFFSETFROM:-0700
TZOFFSETTO:-0800
TZNAME:PST
DTSTART:20231105T090000
END:STANDARD
BEGIN:DAYLIGHT
TZOFFSETFROM:-0800
TZOFFSETTO:-0700
TZNAME:PDT
DTSTART:20240310T100000
END:DAYLIGHT
BEGIN:STANDARD
TZOFFSETFROM:-0700
TZOFFSETTO:-0800
TZNAME:PST
DTSTART:20241103T090000
END:STANDARD
END:VTIMEZONE
BEGIN:VEVENT
DTSTART;TZID=America/New_York:20231206T180000
DTEND;TZID=America/New_York:20231206T193000
DTSTAMP:20260422T221010
CREATED:20230316T122405Z
LAST-MODIFIED:20231207T205840Z
UID:10000014-1701885600-1701891000@pituitary.org
SUMMARY:Webinar: Optimal Replacement for Hypopituitarism and Sheehan's
DESCRIPTION:Webinar Announcement\nOptimal Replacement for Hypopituitarism and Sheehan’s\nPresented by:\nDr. Theodore Friedman\nWednesday\, December 5\, 2023\n6:00 pm – 7:30 pm PST\nTopics to be discussed include\n\nOxytocin – the love hormone\nTestosterone\, not just for men\nStimulants to treat pituitary apathy\nGrowth hormone\, not just for kids\nThyroid optimization\nCortisol\, the right and the wrong way to give\nLearn about the common medicine you should never take if on growth hormone\n\nVia Zoom
URL:https://pituitary.org/events/optimal-replacement/
LOCATION:CA
END:VEVENT
BEGIN:VEVENT
DTSTART;TZID=America/Los_Angeles:20231211T150000
DTEND;TZID=America/Los_Angeles:20231211T160000
DTSTAMP:20260422T221010
CREATED:20231108T204555Z
LAST-MODIFIED:20231209T195417Z
UID:10000017-1702306800-1702310400@pituitary.org
SUMMARY:The Natural History of Pituitary Neuroendocrine Tumors
DESCRIPTION:Webinar Annoucement\nThe Natural History of Neuroendocrine Tumors\n \nPresented by:\nDr. Manish Aghi\, MD\, PhD\nMonday\, Dec 11\, 2023\n3:00 – 4:00 pm PST
URL:https://pituitary.org/events/the-natural-history-of-pituitary-neuroendocrine-tumors/
LOCATION:CA
END:VEVENT
END:VCALENDAR