BEGIN:VCALENDAR
VERSION:2.0
PRODID:-//Pituitary Network Association - International non-profit organization for patients with pituitary tumors and disorders - ECPv6.15.17.1//NONSGML v1.0//EN
CALSCALE:GREGORIAN
METHOD:PUBLISH
X-ORIGINAL-URL:https://pituitary.org
X-WR-CALDESC:Events for Pituitary Network Association - International non-profit organization for patients with pituitary tumors and disorders
REFRESH-INTERVAL;VALUE=DURATION:PT1H
X-Robots-Tag:noindex
X-PUBLISHED-TTL:PT1H
BEGIN:VTIMEZONE
TZID:America/Los_Angeles
BEGIN:DAYLIGHT
TZOFFSETFROM:-0800
TZOFFSETTO:-0700
TZNAME:PDT
DTSTART:20240310T100000
END:DAYLIGHT
BEGIN:STANDARD
TZOFFSETFROM:-0700
TZOFFSETTO:-0800
TZNAME:PST
DTSTART:20241103T090000
END:STANDARD
BEGIN:DAYLIGHT
TZOFFSETFROM:-0800
TZOFFSETTO:-0700
TZNAME:PDT
DTSTART:20250309T100000
END:DAYLIGHT
BEGIN:STANDARD
TZOFFSETFROM:-0700
TZOFFSETTO:-0800
TZNAME:PST
DTSTART:20251102T090000
END:STANDARD
BEGIN:DAYLIGHT
TZOFFSETFROM:-0800
TZOFFSETTO:-0700
TZNAME:PDT
DTSTART:20260308T100000
END:DAYLIGHT
BEGIN:STANDARD
TZOFFSETFROM:-0700
TZOFFSETTO:-0800
TZNAME:PST
DTSTART:20261101T090000
END:STANDARD
END:VTIMEZONE
BEGIN:VEVENT
DTSTART;TZID=America/Los_Angeles:20250315T080000
DTEND;TZID=America/Los_Angeles:20250315T120000
DTSTAMP:20260420T034940
CREATED:20250117T235321Z
LAST-MODIFIED:20250210T211519Z
UID:10000036-1742025600-1742040000@pituitary.org
SUMMARY:Kaiser Permanente Patient Workshop: Pituitary Education Day”
DESCRIPTION:Kaiser Permanente Patient Workshop: Pituitary Education Day \nRegister Here!
URL:https://pituitary.org/events/kaiser-permanente-patient-workshop-pituitary-education-day/
LOCATION:Kaiser Permanente Woodland Hills Medical Center\, 5601 De Soto Ave\, Woodland Hills\, CA\, 91367\, United States
END:VEVENT
BEGIN:VEVENT
DTSTART;TZID=America/Los_Angeles:20250326T110000
DTEND;TZID=America/Los_Angeles:20250326T120000
DTSTAMP:20260420T034940
CREATED:20250210T212229Z
LAST-MODIFIED:20250210T212229Z
UID:10000038-1742986800-1742990400@pituitary.org
SUMMARY:Webinar:
DESCRIPTION:Sodium And Water Imbalance After A Pituitary Surgery\n\nPresented By: Dr. Christie Turin More \nWednesday March 26\, 2025 \n11:00am PST \nRegister Here!
URL:https://pituitary.org/events/webinar-2/
LOCATION:CA
CATEGORIES:Webinars
END:VEVENT
END:VCALENDAR