BEGIN:VCALENDAR
VERSION:2.0
PRODID:-//Pituitary Network Association - International non-profit organization for patients with pituitary tumors and disorders - ECPv6.15.17.1//NONSGML v1.0//EN
CALSCALE:GREGORIAN
METHOD:PUBLISH
X-WR-CALNAME:Pituitary Network Association - International non-profit organization for patients with pituitary tumors and disorders
X-ORIGINAL-URL:https://pituitary.org
X-WR-CALDESC:Events for Pituitary Network Association - International non-profit organization for patients with pituitary tumors and disorders
REFRESH-INTERVAL;VALUE=DURATION:PT1H
X-Robots-Tag:noindex
X-PUBLISHED-TTL:PT1H
BEGIN:VTIMEZONE
TZID:America/Los_Angeles
BEGIN:DAYLIGHT
TZOFFSETFROM:-0800
TZOFFSETTO:-0700
TZNAME:PDT
DTSTART:20250309T100000
END:DAYLIGHT
BEGIN:STANDARD
TZOFFSETFROM:-0700
TZOFFSETTO:-0800
TZNAME:PST
DTSTART:20251102T090000
END:STANDARD
BEGIN:DAYLIGHT
TZOFFSETFROM:-0800
TZOFFSETTO:-0700
TZNAME:PDT
DTSTART:20260308T100000
END:DAYLIGHT
BEGIN:STANDARD
TZOFFSETFROM:-0700
TZOFFSETTO:-0800
TZNAME:PST
DTSTART:20261101T090000
END:STANDARD
BEGIN:DAYLIGHT
TZOFFSETFROM:-0800
TZOFFSETTO:-0700
TZNAME:PDT
DTSTART:20270314T100000
END:DAYLIGHT
BEGIN:STANDARD
TZOFFSETFROM:-0700
TZOFFSETTO:-0800
TZNAME:PST
DTSTART:20271107T090000
END:STANDARD
END:VTIMEZONE
BEGIN:VEVENT
DTSTART;TZID=America/Los_Angeles:20260108T100000
DTEND;TZID=America/Los_Angeles:20260108T110000
DTSTAMP:20260420T172313
CREATED:20251218T200754Z
LAST-MODIFIED:20251218T200754Z
UID:10000042-1767866400-1767870000@pituitary.org
SUMMARY:Webinar
DESCRIPTION:Functional Tumors and Surgical Techniques: Functional tumor cases. Discussion on surgical techniques and how they impact patient outcomes. \nPresented by Dr. Stephen T. Magill \nThursday January 8\, 2026 \n10:00 AM PST at: \nClick Here To Register \nAfter registering\, you will receive a confirmation email containing information about joining the webinar \n 
URL:https://pituitary.org/events/webinar-3/
LOCATION:CA
END:VEVENT
END:VCALENDAR